BEGIN:VCALENDAR
VERSION:2.0
PRODID:-//DGITS Nisporeni - ECPv6.15.20//NONSGML v1.0//EN
CALSCALE:GREGORIAN
METHOD:PUBLISH
X-ORIGINAL-URL:https://dgitsnisporeni.md
X-WR-CALDESC:Evenimente pentru DGITS Nisporeni
REFRESH-INTERVAL;VALUE=DURATION:PT1H
X-Robots-Tag:noindex
X-PUBLISHED-TTL:PT1H
BEGIN:VTIMEZONE
TZID:Europe/Helsinki
BEGIN:DAYLIGHT
TZOFFSETFROM:+0200
TZOFFSETTO:+0300
TZNAME:EEST
DTSTART:20190331T010000
END:DAYLIGHT
BEGIN:STANDARD
TZOFFSETFROM:+0300
TZOFFSETTO:+0200
TZNAME:EET
DTSTART:20191027T010000
END:STANDARD
BEGIN:DAYLIGHT
TZOFFSETFROM:+0200
TZOFFSETTO:+0300
TZNAME:EEST
DTSTART:20200329T010000
END:DAYLIGHT
BEGIN:STANDARD
TZOFFSETFROM:+0300
TZOFFSETTO:+0200
TZNAME:EET
DTSTART:20201025T010000
END:STANDARD
BEGIN:DAYLIGHT
TZOFFSETFROM:+0200
TZOFFSETTO:+0300
TZNAME:EEST
DTSTART:20210328T010000
END:DAYLIGHT
BEGIN:STANDARD
TZOFFSETFROM:+0300
TZOFFSETTO:+0200
TZNAME:EET
DTSTART:20211031T010000
END:STANDARD
BEGIN:DAYLIGHT
TZOFFSETFROM:+0200
TZOFFSETTO:+0300
TZNAME:EEST
DTSTART:20220327T010000
END:DAYLIGHT
BEGIN:STANDARD
TZOFFSETFROM:+0300
TZOFFSETTO:+0200
TZNAME:EET
DTSTART:20221030T010000
END:STANDARD
END:VTIMEZONE
BEGIN:VEVENT
DTSTART;TZID=Europe/Helsinki:20200102T083000
DTEND;TZID=Europe/Helsinki:20200102T170000
DTSTAMP:20260422T062219
CREATED:20191228T194346Z
LAST-MODIFIED:20191228T194509Z
UID:2355-1577953800-1577984400@dgitsnisporeni.md
SUMMARY:Seminar metodologic  (Învăţământ primar)
DESCRIPTION:Educaţia digitală\, clasa II-a. Implementarea  curriculumului  la disciplină. Proiectarea de perspectivă.
URL:https://dgitsnisporeni.md/evenimente/seminar-metodologic-invatamant-primar-2/
LOCATION:Centrul metodic
END:VEVENT
BEGIN:VEVENT
DTSTART;VALUE=DATE:20200103
DTEND;VALUE=DATE:20200104
DTSTAMP:20260422T062219
CREATED:20191228T194919Z
LAST-MODIFIED:20191228T194919Z
UID:2365-1578009600-1578095999@dgitsnisporeni.md
SUMMARY:Asistență metodologică cadrului didactic de sprijin recent angajat
DESCRIPTION:
URL:https://dgitsnisporeni.md/evenimente/asistenta-metodologica-cadrului-didactic-de-sprijin-recent-angajat/
LOCATION:I.P Gimnaziul „Zberoaia”
END:VEVENT
BEGIN:VEVENT
DTSTART;TZID=Europe/Helsinki:20200106T150000
DTEND;TZID=Europe/Helsinki:20200106T170000
DTSTAMP:20260422T062219
CREATED:20191228T193701Z
LAST-MODIFIED:20191228T193701Z
UID:2340-1578322800-1578330000@dgitsnisporeni.md
SUMMARY:Şedinţe de lucru cu angajaţii DÎTS
DESCRIPTION:Monitorizarea procesului de debirocratizare în instituţiile educaţionale
URL:https://dgitsnisporeni.md/evenimente/sedinte-de-lucru-cu-angajatii-dits/
LOCATION:Centrul metodic
END:VEVENT
BEGIN:VEVENT
DTSTART;TZID=Europe/Helsinki:20200111T083000
DTEND;TZID=Europe/Helsinki:20200111T170000
DTSTAMP:20260422T062219
CREATED:20191228T194251Z
LAST-MODIFIED:20191228T194251Z
UID:2352-1578731400-1578762000@dgitsnisporeni.md
SUMMARY:Seminar instructiv-metodic la Limba şi literatura română
DESCRIPTION:Tipologia şi structura lecţiilor specifice disciplinei
URL:https://dgitsnisporeni.md/evenimente/seminar-instructiv-metodic-la-limba-si-literatura-romana/
LOCATION:Centrul metodic
END:VEVENT
BEGIN:VEVENT
DTSTART;TZID=Europe/Helsinki:20200111T083000
DTEND;TZID=Europe/Helsinki:20200111T170000
DTSTAMP:20260422T062219
CREATED:20191228T194443Z
LAST-MODIFIED:20191228T194443Z
UID:2357-1578731400-1578762000@dgitsnisporeni.md
SUMMARY:Atelier de formare
DESCRIPTION:Cadrul de competenţă pentru o cultură democratică –context de implementare a disciplinei şcolare Educaţie pentru societate
URL:https://dgitsnisporeni.md/evenimente/atelier-de-formare/
LOCATION:I.P Gimnaziul „Mihai Eminescu”\, Nisporeni
END:VEVENT
BEGIN:VEVENT
DTSTART;TZID=Europe/Helsinki:20200113T150000
DTEND;TZID=Europe/Helsinki:20200113T170000
DTSTAMP:20260422T062219
CREATED:20191228T193739Z
LAST-MODIFIED:20191228T193739Z
UID:2342-1578927600-1578934800@dgitsnisporeni.md
SUMMARY:Şedinţe de lucru cu angajaţii DÎTS
DESCRIPTION:Monitorizarea procesului de debirocratizare în instituţiile educaţionale
URL:https://dgitsnisporeni.md/evenimente/sedinte-de-lucru-cu-angajatii-dits-2/
LOCATION:Centrul metodic
END:VEVENT
BEGIN:VEVENT
DTSTART;TZID=Europe/Helsinki:20200115T083000
DTEND;TZID=Europe/Helsinki:20200115T170000
DTSTAMP:20260422T062219
CREATED:20191228T194049Z
LAST-MODIFIED:20191228T194049Z
UID:2350-1579077000-1579107600@dgitsnisporeni.md
SUMMARY:Masă rotundă: Atestarea cadrelor didactice în anul de studii 2019-2020
DESCRIPTION:Atestarea cadrelor didactice în anul de studii 2019-2020 şi respectarea metodologiei cuantificării\, acumulării şi recunoaşterii creditelor profesionale conform Hărţii creditare. Probleme şi perspective
URL:https://dgitsnisporeni.md/evenimente/masa-rotunda-atestarea-cadrelor-didactice-in-anul-de-studii-2019-2020/
LOCATION:Centrul metodic
END:VEVENT
BEGIN:VEVENT
DTSTART;TZID=Europe/Helsinki:20200120T150000
DTEND;TZID=Europe/Helsinki:20200120T170000
DTSTAMP:20260422T062219
CREATED:20191228T193825Z
LAST-MODIFIED:20191228T193825Z
UID:2344-1579532400-1579539600@dgitsnisporeni.md
SUMMARY:Şedinţe de lucru cu angajaţii DÎTS
DESCRIPTION:Monitorizarea procesului de debirocratizare în instituţiile educaţionale
URL:https://dgitsnisporeni.md/evenimente/sedinte-de-lucru-cu-angajatii-dits-3/
LOCATION:Centrul metodic
END:VEVENT
BEGIN:VEVENT
DTSTART;TZID=Europe/Helsinki:20200122T140000
DTEND;TZID=Europe/Helsinki:20200122T170000
DTSTAMP:20260422T062219
CREATED:20191228T195048Z
LAST-MODIFIED:20191228T195048Z
UID:2369-1579701600-1579712400@dgitsnisporeni.md
SUMMARY:Şedinţe ale Consiliului Raional al elevilor
DESCRIPTION:Cu privire la respectarea Instrucțiunii Managementul temelor pentru acasã\nCu privire la activitatea CE din instituțiile școlare
URL:https://dgitsnisporeni.md/evenimente/sedinte-ale-consiliului-raional-al-elevilor/
LOCATION:Centrul metodic
END:VEVENT
BEGIN:VEVENT
DTSTART;TZID=Europe/Helsinki:20200124T140000
DTEND;TZID=Europe/Helsinki:20200124T170000
DTSTAMP:20260422T062219
CREATED:20191228T195147Z
LAST-MODIFIED:20191228T195147Z
UID:2371-1579874400-1579885200@dgitsnisporeni.md
SUMMARY:Centrul de excelenţă: Limba şi literatura română
DESCRIPTION:Comunicare eficientă în cadrul grupului
URL:https://dgitsnisporeni.md/evenimente/centrul-de-excelenta-limba-si-literatura-romana-2/
LOCATION:I.P Gimnaziul „Mihai Eminescu”\, Nisporeni
END:VEVENT
BEGIN:VEVENT
DTSTART;TZID=Europe/Helsinki:20200127T150000
DTEND;TZID=Europe/Helsinki:20200127T170000
DTSTAMP:20260422T062219
CREATED:20191228T193855Z
LAST-MODIFIED:20191228T193855Z
UID:2346-1580137200-1580144400@dgitsnisporeni.md
SUMMARY:Şedinţe de lucru cu angajaţii DÎTS
DESCRIPTION:Monitorizarea procesului de debirocratizare în instituţiile educaţionale
URL:https://dgitsnisporeni.md/evenimente/sedinte-de-lucru-cu-angajatii-dits-4/
LOCATION:Centrul metodic
END:VEVENT
BEGIN:VEVENT
DTSTART;VALUE=DATE:20200129
DTEND;VALUE=DATE:20200130
DTSTAMP:20260422T062219
CREATED:20191228T194802Z
LAST-MODIFIED:20191228T194802Z
UID:2362-1580256000-1580342399@dgitsnisporeni.md
SUMMARY:Seminar metodologic (cadre didactice și părinți)
DESCRIPTION:Metode de gestionare a tulburărilor de comportament
URL:https://dgitsnisporeni.md/evenimente/seminar-metodologic-cadre-didactice-si-parinti/
LOCATION:I.P Gimnaziul „Ștefan cel Mare”\, Nisporeni
END:VEVENT
BEGIN:VEVENT
DTSTART;TZID=Europe/Helsinki:20200129T083000
DTEND;TZID=Europe/Helsinki:20200129T170000
DTSTAMP:20260422T062219
CREATED:20191228T194657Z
LAST-MODIFIED:20191228T194657Z
UID:2360-1580286600-1580317200@dgitsnisporeni.md
SUMMARY:Master – Class (Educaţie muzicală)
DESCRIPTION:Rolul demersului  educaţional eficientizat  la disciplina educaţia muzicală în formarea de competenţe\nImplementarea MECD.  Continuitatea ECDN în clasa a V-a . Succese şi probleme în desfăşurarea evaluării rezultatelor elevilor.
URL:https://dgitsnisporeni.md/evenimente/master-class-educatie-muzicala/
LOCATION:Centrul metodic
END:VEVENT
BEGIN:VEVENT
DTSTART;TZID=Europe/Helsinki:20200130T083000
DTEND;TZID=Europe/Helsinki:20200130T170000
DTSTAMP:20260422T062219
CREATED:20191228T193938Z
LAST-MODIFIED:20191228T193938Z
UID:2348-1580373000-1580403600@dgitsnisporeni.md
SUMMARY:Şedinţă de informare cu conducătorii instituţiilor
DESCRIPTION:Cu privire la monitorizarea  procesului de debirocratizare în instituţiile educaţionale
URL:https://dgitsnisporeni.md/evenimente/sedinta-de-informare-cu-conducatorii-institutiilor/
LOCATION:Centrul metodic
END:VEVENT
BEGIN:VEVENT
DTSTART;TZID=Europe/Helsinki:20210604T080000
DTEND;TZID=Europe/Helsinki:20210604T170000
DTSTAMP:20260422T062219
CREATED:20210604T120501Z
LAST-MODIFIED:20210604T120501Z
UID:2845-1622793600-1622826000@dgitsnisporeni.md
SUMMARY:test
DESCRIPTION:test
URL:https://dgitsnisporeni.md/evenimente/test/
END:VEVENT
END:VCALENDAR