BEGIN:VCALENDAR
VERSION:2.0
PRODID:-//DGITS Nisporeni - ECPv6.15.20//NONSGML v1.0//EN
CALSCALE:GREGORIAN
METHOD:PUBLISH
X-WR-CALNAME:DGITS Nisporeni
X-ORIGINAL-URL:https://dgitsnisporeni.md
X-WR-CALDESC:Evenimente pentru DGITS Nisporeni
REFRESH-INTERVAL;VALUE=DURATION:PT1H
X-Robots-Tag:noindex
X-PUBLISHED-TTL:PT1H
BEGIN:VTIMEZONE
TZID:Europe/Helsinki
BEGIN:DAYLIGHT
TZOFFSETFROM:+0200
TZOFFSETTO:+0300
TZNAME:EEST
DTSTART:20180325T010000
END:DAYLIGHT
BEGIN:STANDARD
TZOFFSETFROM:+0300
TZOFFSETTO:+0200
TZNAME:EET
DTSTART:20181028T010000
END:STANDARD
BEGIN:DAYLIGHT
TZOFFSETFROM:+0200
TZOFFSETTO:+0300
TZNAME:EEST
DTSTART:20190331T010000
END:DAYLIGHT
BEGIN:STANDARD
TZOFFSETFROM:+0300
TZOFFSETTO:+0200
TZNAME:EET
DTSTART:20191027T010000
END:STANDARD
BEGIN:DAYLIGHT
TZOFFSETFROM:+0200
TZOFFSETTO:+0300
TZNAME:EEST
DTSTART:20200329T010000
END:DAYLIGHT
BEGIN:STANDARD
TZOFFSETFROM:+0300
TZOFFSETTO:+0200
TZNAME:EET
DTSTART:20201025T010000
END:STANDARD
END:VTIMEZONE
BEGIN:VEVENT
DTSTART;VALUE=DATE:20190625
DTEND;VALUE=DATE:20190626
DTSTAMP:20260421T234749
CREATED:20190603T095258Z
LAST-MODIFIED:20190603T095258Z
UID:1562-1561420800-1561507199@dgitsnisporeni.md
SUMMARY:Afişarea borderourilor cu rezultatele obţinute în urma examinării contestaţiilor\, gimnaziu  în instituţia de învăţmânt
DESCRIPTION:
URL:https://dgitsnisporeni.md/evenimente/afisarea-borderourilor-cu-rezultatele-obtinute-in-urma-examinarii-contestatiilor-gimnaziu-in-institutia-de-invatmant/
LOCATION:Instituțiile de învățământ
END:VEVENT
BEGIN:VEVENT
DTSTART;VALUE=DATE:20190625
DTEND;VALUE=DATE:20190626
DTSTAMP:20260421T234749
CREATED:20190603T095211Z
LAST-MODIFIED:20190603T095211Z
UID:1560-1561420800-1561507199@dgitsnisporeni.md
SUMMARY:Transmiterea testelor candidaţilor care au depus cereri pentru contestaţii către Comisiile Şcolare de Examene.
DESCRIPTION:
URL:https://dgitsnisporeni.md/evenimente/transmiterea-testelor-candidatilor-care-au-depus-cereri-pentru-contestatii-catre-comisiile-scolare-de-examene/
LOCATION:Instituțiile de învățământ
END:VEVENT
BEGIN:VEVENT
DTSTART;VALUE=DATE:20190622
DTEND;VALUE=DATE:20190627
DTSTAMP:20260421T234749
CREATED:20190603T100000Z
LAST-MODIFIED:20190603T100000Z
UID:1571-1561161600-1561593599@dgitsnisporeni.md
SUMMARY:Completarea bazei de date cu notele de la examenele de gimnaziu\, sesiunea de bază 2019
DESCRIPTION:
URL:https://dgitsnisporeni.md/evenimente/completarea-bazei-de-date-cu-notele-de-la-examenele-de-gimnaziu-sesiunea-de-baza-2019/
END:VEVENT
BEGIN:VEVENT
DTSTART;VALUE=DATE:20190622
DTEND;VALUE=DATE:20190625
DTSTAMP:20260421T234749
CREATED:20190603T094534Z
LAST-MODIFIED:20190603T094534Z
UID:1556-1561161600-1561420799@dgitsnisporeni.md
SUMMARY:Examinarea contestaţiilor. Completarea borderourilor.
DESCRIPTION:
URL:https://dgitsnisporeni.md/evenimente/examinarea-contestatiilor-completarea-borderourilor/
LOCATION:I.P Gimnaziul „Mihai Eminescu”\, Nisporeni
END:VEVENT
BEGIN:VEVENT
DTSTART;VALUE=DATE:20190621
DTEND;VALUE=DATE:20190622
DTSTAMP:20260421T234749
CREATED:20190603T094402Z
LAST-MODIFIED:20190603T094402Z
UID:1554-1561075200-1561161599@dgitsnisporeni.md
SUMMARY:Depunerea de către candidaţi la examenele de absolvire a gimnaziului a cererilor pentru contestaţii (24 ore)
DESCRIPTION:
URL:https://dgitsnisporeni.md/evenimente/depunerea-de-catre-candidati-la-examenele-de-absolvire-a-gimnaziului-a-cererilor-pentru-contestatii-24-ore/
LOCATION:Instituțiile de învățământ
END:VEVENT
BEGIN:VEVENT
DTSTART;VALUE=DATE:20190620
DTEND;VALUE=DATE:20190621
DTSTAMP:20260421T234749
CREATED:20190603T083048Z
LAST-MODIFIED:20190603T083048Z
UID:1551-1560988800-1561075199@dgitsnisporeni.md
SUMMARY:Comunicarea rezultatelor examenelor de absolvire a gimnaziului
DESCRIPTION:
URL:https://dgitsnisporeni.md/evenimente/comunicarea-rezultatelor-examenelor-de-absolvire-a-gimnaziului/
LOCATION:Instituțiile de învățământ
END:VEVENT
BEGIN:VEVENT
DTSTART;TZID=Europe/Helsinki:20190618T080000
DTEND;TZID=Europe/Helsinki:20190618T170000
DTSTAMP:20260421T234749
CREATED:20190603T073216Z
LAST-MODIFIED:20190603T073216Z
UID:1549-1560844800-1560877200@dgitsnisporeni.md
SUMMARY:Examen de Bacalaureat - Disciplina la solicitare
DESCRIPTION:
URL:https://dgitsnisporeni.md/evenimente/examen-de-bacalaureat-disciplina-la-solicitare/
LOCATION:Instituțiile de învățământ
END:VEVENT
BEGIN:VEVENT
DTSTART;TZID=Europe/Helsinki:20190614T080000
DTEND;TZID=Europe/Helsinki:20190614T170000
DTSTAMP:20260421T234749
CREATED:20190603T073053Z
LAST-MODIFIED:20190603T073053Z
UID:1547-1560499200-1560531600@dgitsnisporeni.md
SUMMARY:Examen de Bacalaureat - Istoria românilor și universală
DESCRIPTION:
URL:https://dgitsnisporeni.md/evenimente/examen-de-bacalaureat-istoria-romanilor-si-universala/
LOCATION:Instituțiile de învățământ
END:VEVENT
BEGIN:VEVENT
DTSTART;TZID=Europe/Helsinki:20190614T080000
DTEND;TZID=Europe/Helsinki:20190614T170000
DTSTAMP:20260421T234749
CREATED:20190603T072952Z
LAST-MODIFIED:20190603T072952Z
UID:1545-1560499200-1560531600@dgitsnisporeni.md
SUMMARY:Examen de Bacalaureat - Matematica
DESCRIPTION:
URL:https://dgitsnisporeni.md/evenimente/examen-de-bacalaureat-matematica/
LOCATION:Instituțiile de învățământ
END:VEVENT
BEGIN:VEVENT
DTSTART;TZID=Europe/Helsinki:20190613T080000
DTEND;TZID=Europe/Helsinki:20190613T170000
DTSTAMP:20260421T234749
CREATED:20190603T071423Z
LAST-MODIFIED:20190603T071423Z
UID:1539-1560412800-1560445200@dgitsnisporeni.md
SUMMARY:Examenul de absolvire a treptei gimnaziale - Istoria românilor și universală
DESCRIPTION:
URL:https://dgitsnisporeni.md/evenimente/examenul-de-absolvire-a-treptei-gimnaziale-istoria-romanilor-si-universala/
LOCATION:Instituțiile de învățământ
END:VEVENT
BEGIN:VEVENT
DTSTART;TZID=Europe/Helsinki:20190611T080000
DTEND;TZID=Europe/Helsinki:20190611T170000
DTSTAMP:20260421T234749
CREATED:20190603T071630Z
LAST-MODIFIED:20190603T071630Z
UID:1543-1560240000-1560272400@dgitsnisporeni.md
SUMMARY:Examen de Bacalaureat - Limba străină
DESCRIPTION:
URL:https://dgitsnisporeni.md/evenimente/examen-de-bacalaureat-limba-straina/
LOCATION:Instituțiile de învățământ
END:VEVENT
BEGIN:VEVENT
DTSTART;TZID=Europe/Helsinki:20190610T080000
DTEND;TZID=Europe/Helsinki:20190610T170000
DTSTAMP:20260421T234749
CREATED:20190603T071324Z
LAST-MODIFIED:20190603T071324Z
UID:1537-1560153600-1560186000@dgitsnisporeni.md
SUMMARY:Examenul de absolvire a treptei gimnaziale - Limba și Literatura Română
DESCRIPTION:
URL:https://dgitsnisporeni.md/evenimente/examenul-de-absolvire-a-treptei-gimnaziale-limba-si-literatura-romana/
LOCATION:Instituțiile de învățământ
END:VEVENT
BEGIN:VEVENT
DTSTART;TZID=Europe/Helsinki:20190607T080000
DTEND;TZID=Europe/Helsinki:20190607T170000
DTSTAMP:20260421T234749
CREATED:20190603T071517Z
LAST-MODIFIED:20190603T071517Z
UID:1541-1559894400-1559926800@dgitsnisporeni.md
SUMMARY:Examen de Bacalaureat - Limba și literatura română
DESCRIPTION:
URL:https://dgitsnisporeni.md/evenimente/examen-de-bacalaureat-limba-si-literatura-romana/
LOCATION:Instituțiile de învățământ
END:VEVENT
BEGIN:VEVENT
DTSTART;TZID=Europe/Helsinki:20190606T080000
DTEND;TZID=Europe/Helsinki:20190606T170000
DTSTAMP:20260421T234749
CREATED:20190603T071213Z
LAST-MODIFIED:20190603T071213Z
UID:1533-1559808000-1559840400@dgitsnisporeni.md
SUMMARY:Examenul de absolvire a treptei gimnaziale - Matematica
DESCRIPTION:
URL:https://dgitsnisporeni.md/evenimente/examenul-de-absolvire-a-treptei-gimnaziale-matematica/
LOCATION:Instituțiile de învățământ
END:VEVENT
BEGIN:VEVENT
DTSTART;TZID=Europe/Helsinki:20190531T140000
DTEND;TZID=Europe/Helsinki:20190531T170000
DTSTAMP:20260421T234749
CREATED:20190501T084212Z
LAST-MODIFIED:20190501T084212Z
UID:1423-1559311200-1559322000@dgitsnisporeni.md
SUMMARY:Şedinţa Consiliului de administraţie
DESCRIPTION:Rezultatele procesului de atestare a cadrelor didactice/manageriale  pentru conferirea/ confirmarea gradului didactic\nDespre organizarea și desfășurarea testării în învățământul primar\nAprobarea listei elevilor cu CES implicați în sesiunea de examene 2019
URL:https://dgitsnisporeni.md/evenimente/sedinta-consiliului-de-administratie-2/
LOCATION:Centrul metodic
END:VEVENT
BEGIN:VEVENT
DTSTART;TZID=Europe/Helsinki:20190530T083000
DTEND;TZID=Europe/Helsinki:20190530T170000
DTSTAMP:20260421T234749
CREATED:20190501T084800Z
LAST-MODIFIED:20190501T084800Z
UID:1430-1559205000-1559235600@dgitsnisporeni.md
SUMMARY:Şedinţă de informare a cadrelor manageriale
DESCRIPTION:Organizarea şi desfăşurarea examenelor de absolvire  etc.
URL:https://dgitsnisporeni.md/evenimente/sedinta-de-informare-a-cadrelor-manageriale-3/
LOCATION:Centrul metodic
END:VEVENT
BEGIN:VEVENT
DTSTART;TZID=Europe/Helsinki:20190527T083000
DTEND;TZID=Europe/Helsinki:20190527T170000
DTSTAMP:20260421T234749
CREATED:20190501T090049Z
LAST-MODIFIED:20190501T090049Z
UID:1449-1558945800-1558976400@dgitsnisporeni.md
SUMMARY:Consiliul Raional al elevilor
DESCRIPTION:Oportunități oferite de activitatea de voluntariat a elevilor
URL:https://dgitsnisporeni.md/evenimente/consiliul-raional-al-elevilor/
LOCATION:Centrul metodic
END:VEVENT
BEGIN:VEVENT
DTSTART;VALUE=DATE:20190523
DTEND;VALUE=DATE:20190524
DTSTAMP:20260421T234749
CREATED:20190501T084418Z
LAST-MODIFIED:20190501T084418Z
UID:1425-1558569600-1558655999@dgitsnisporeni.md
SUMMARY:Gala Excelenţei în Educaţie
DESCRIPTION:Evidențierea realizărilor din domeniul educațional
URL:https://dgitsnisporeni.md/evenimente/gala-excelentei-in-educatie/
LOCATION:Casa de Cultură și Tineret „Luceafărul”
END:VEVENT
BEGIN:VEVENT
DTSTART;VALUE=DATE:20190522
DTEND;VALUE=DATE:20190523
DTSTAMP:20260421T234749
CREATED:20190501T085908Z
LAST-MODIFIED:20190501T085908Z
UID:1446-1558483200-1558569599@dgitsnisporeni.md
SUMMARY:Şedinţa Consiliului metodic raional
DESCRIPTION:Raport de activitate a Secției Management al Curriculumului și Formare Profesională Continuă\,  anul şcolar  2018-2019\nRezultatele monitorizării studierii temelor de cercetare la disciplinele şcolare conform planului-cadru\, propuse de MECC în Reperele metodologice la discipline\, a Instrucţiunii privind managementul temelor pentru acasă în învăţământul primar\, gimnazial şi liceal
URL:https://dgitsnisporeni.md/evenimente/sedinta-consiliului-metodic-raional/
LOCATION:Centrul metodic
END:VEVENT
BEGIN:VEVENT
DTSTART;VALUE=DATE:20190521
DTEND;VALUE=DATE:20190522
DTSTAMP:20260421T234749
CREATED:20190501T085417Z
LAST-MODIFIED:20190501T085417Z
UID:1440-1558396800-1558483199@dgitsnisporeni.md
SUMMARY:Organizarea și desfășurarea testării naţionale la limba română în învățământul primar
DESCRIPTION:
URL:https://dgitsnisporeni.md/evenimente/organizarea-si-desfasurarea-testarii-nationale-la-limba-romana-in-invatamantul-primar/
LOCATION:Instituțiile de învățământ
END:VEVENT
BEGIN:VEVENT
DTSTART;TZID=Europe/Helsinki:20190518T090000
DTEND;TZID=Europe/Helsinki:20190518T170000
DTSTAMP:20260421T234749
CREATED:20190501T093135Z
LAST-MODIFIED:20190501T093135Z
UID:1466-1558170000-1558198800@dgitsnisporeni.md
SUMMARY:Concursul tinerilor poeţi şi prozatori „Tinere condeie”
DESCRIPTION:
URL:https://dgitsnisporeni.md/evenimente/concursul-tinerilor-poeti-si-prozatori-tinere-condeie/
LOCATION:Centrul metodic
END:VEVENT
BEGIN:VEVENT
DTSTART;VALUE=DATE:20190518
DTEND;VALUE=DATE:20190519
DTSTAMP:20260421T234749
CREATED:20190501T092704Z
LAST-MODIFIED:20190501T092704Z
UID:1459-1558137600-1558223999@dgitsnisporeni.md
SUMMARY:„La izvoarele înțelepciunii” - Etapa republicană
DESCRIPTION:
URL:https://dgitsnisporeni.md/evenimente/la-izvoarele-intelepciunii-etapa-republicana/
LOCATION:or.Chișinău
END:VEVENT
BEGIN:VEVENT
DTSTART;VALUE=DATE:20190517
DTEND;VALUE=DATE:20190520
DTSTAMP:20260421T234749
CREATED:20190501T092600Z
LAST-MODIFIED:20190501T092600Z
UID:1457-1558051200-1558310399@dgitsnisporeni.md
SUMMARY:Olimpiada republicană la limba engleză
DESCRIPTION:
URL:https://dgitsnisporeni.md/evenimente/olimpiada-republicana-la-limba-engleza/
LOCATION:or.Chișinău
END:VEVENT
BEGIN:VEVENT
DTSTART;TZID=Europe/Helsinki:20190516T083000
DTEND;TZID=Europe/Helsinki:20190516T170000
DTSTAMP:20260421T234749
CREATED:20190501T085009Z
LAST-MODIFIED:20190501T085009Z
UID:1432-1557995400-1558026000@dgitsnisporeni.md
SUMMARY:Şedinţă de informare a cadrelor didactice\, grupa pregătitoare
DESCRIPTION:Organizarea şi desfăşurarea evaluării sumative a copiilor în baza Ghidului de aplicare a instrumentului de monitorizare a pregătirii  copiilor  pentru şcoală  şi a  fişei  de  monitorizare a progresului  preşcolarului
URL:https://dgitsnisporeni.md/evenimente/sedinta-de-informare-a-cadrelor-didactice-grupa-pregatitoare/
LOCATION:Centrul metodic
END:VEVENT
BEGIN:VEVENT
DTSTART;VALUE=DATE:20190516
DTEND;VALUE=DATE:20190517
DTSTAMP:20260421T234749
CREATED:20190501T085345Z
LAST-MODIFIED:20190501T085345Z
UID:1438-1557964800-1558051199@dgitsnisporeni.md
SUMMARY:Organizarea și desfășurarea testării naţionale la matematică în învățământul primar
DESCRIPTION:
URL:https://dgitsnisporeni.md/evenimente/organizarea-si-desfasurarea-testarii-nationale-la-matematica-in-invatamantul-primar/
LOCATION:Instituțiile de învățământ
END:VEVENT
BEGIN:VEVENT
DTSTART;VALUE=DATE:20190513
DTEND;VALUE=DATE:20190514
DTSTAMP:20260421T234749
CREATED:20190501T093330Z
LAST-MODIFIED:20190501T093330Z
UID:1471-1557705600-1557791999@dgitsnisporeni.md
SUMMARY:Masă rotundă cu genericul: „Rolul şi imaginea pedagogului în societate
DESCRIPTION:
URL:https://dgitsnisporeni.md/evenimente/masa-rotunda-cu-genericul-rolul-si-imaginea-pedagogului-in-societate/
LOCATION:Centrul metodic
END:VEVENT
BEGIN:VEVENT
DTSTART;VALUE=DATE:20190512
DTEND;VALUE=DATE:20190520
DTSTAMP:20260421T234749
CREATED:20190501T093246Z
LAST-MODIFIED:20190501T093246Z
UID:1468-1557619200-1558310399@dgitsnisporeni.md
SUMMARY:Turneu la fotbal pentru copii şi seniori în memoria lui Tudor Țărnă
DESCRIPTION:
URL:https://dgitsnisporeni.md/evenimente/turneu-la-fotbal-pentru-copii-si-seniori-in-memoria-lui-tudor-tarna/
LOCATION:I.P Gimnaziul „Ștefan cel Mare”\, Nisporeni
END:VEVENT
BEGIN:VEVENT
DTSTART;VALUE=DATE:20190510
DTEND;VALUE=DATE:20190512
DTSTAMP:20260421T234749
CREATED:20190501T092915Z
LAST-MODIFIED:20190501T092915Z
UID:1464-1557446400-1557619199@dgitsnisporeni.md
SUMMARY:Turnamentul republican în domeniul Drepturilor Copilului
DESCRIPTION:
URL:https://dgitsnisporeni.md/evenimente/turnamentul-republican-in-domeniul-drepturilor-copilului/
LOCATION:or.Chișinău
END:VEVENT
BEGIN:VEVENT
DTSTART;VALUE=DATE:20190510
DTEND;VALUE=DATE:20190514
DTSTAMP:20260421T234749
CREATED:20190501T092519Z
LAST-MODIFIED:20190501T092519Z
UID:1455-1557446400-1557791999@dgitsnisporeni.md
SUMMARY:Olimpiada republicană la științe
DESCRIPTION:
URL:https://dgitsnisporeni.md/evenimente/olimpiada-republicana-la-stiinte/
LOCATION:or.Chișinău
END:VEVENT
BEGIN:VEVENT
DTSTART;VALUE=DATE:20190510
DTEND;VALUE=DATE:20190513
DTSTAMP:20260421T234749
CREATED:20190501T092418Z
LAST-MODIFIED:20190501T092418Z
UID:1451-1557446400-1557705599@dgitsnisporeni.md
SUMMARY:Olimpiada republicană la educația fizică
DESCRIPTION:
URL:https://dgitsnisporeni.md/evenimente/olimpiada-republicana-la-educatia-fizica/
LOCATION:or.Chișinău
END:VEVENT
END:VCALENDAR