BEGIN:VCALENDAR
VERSION:2.0
PRODID:-//DGITS Nisporeni - ECPv6.15.20//NONSGML v1.0//EN
CALSCALE:GREGORIAN
METHOD:PUBLISH
X-ORIGINAL-URL:https://dgitsnisporeni.md
X-WR-CALDESC:Evenimente pentru DGITS Nisporeni
REFRESH-INTERVAL;VALUE=DURATION:PT1H
X-Robots-Tag:noindex
X-PUBLISHED-TTL:PT1H
BEGIN:VTIMEZONE
TZID:Europe/Helsinki
BEGIN:DAYLIGHT
TZOFFSETFROM:+0200
TZOFFSETTO:+0300
TZNAME:EEST
DTSTART:20180325T010000
END:DAYLIGHT
BEGIN:STANDARD
TZOFFSETFROM:+0300
TZOFFSETTO:+0200
TZNAME:EET
DTSTART:20181028T010000
END:STANDARD
BEGIN:DAYLIGHT
TZOFFSETFROM:+0200
TZOFFSETTO:+0300
TZNAME:EEST
DTSTART:20190331T010000
END:DAYLIGHT
BEGIN:STANDARD
TZOFFSETFROM:+0300
TZOFFSETTO:+0200
TZNAME:EET
DTSTART:20191027T010000
END:STANDARD
BEGIN:DAYLIGHT
TZOFFSETFROM:+0200
TZOFFSETTO:+0300
TZNAME:EEST
DTSTART:20200329T010000
END:DAYLIGHT
BEGIN:STANDARD
TZOFFSETFROM:+0300
TZOFFSETTO:+0200
TZNAME:EET
DTSTART:20201025T010000
END:STANDARD
END:VTIMEZONE
BEGIN:VEVENT
DTSTART;TZID=Europe/Helsinki:20190508T083000
DTEND;TZID=Europe/Helsinki:20190508T170000
DTSTAMP:20260424T114925
CREATED:20190501T085117Z
LAST-MODIFIED:20190501T085117Z
UID:1434-1557304200-1557334800@dgitsnisporeni.md
SUMMARY:Seminar instructiv cu cadre didactice
DESCRIPTION:Analiza rezultatelor testării la limba şi literatura română. Aplicarea baremului de corectare (profesori care predau în cl. a IX-a)
URL:https://dgitsnisporeni.md/evenimente/seminar-instructiv-cu-cadre-didactice/
LOCATION:Centrul metodic
END:VEVENT
BEGIN:VEVENT
DTSTART;TZID=Europe/Helsinki:20190503T083000
DTEND;TZID=Europe/Helsinki:20190503T170000
DTSTAMP:20260424T114925
CREATED:20190501T084616Z
LAST-MODIFIED:20190501T084811Z
UID:1428-1556872200-1556902800@dgitsnisporeni.md
SUMMARY:Şedinţă de informare a cadrelor manageriale
DESCRIPTION: Analiza şi generalizarea rezultatelor testărilor\nGeneralizări în baza prescripţiei  inspecţiei financiare (şedinţă transferată din luna aprilie) etc.
URL:https://dgitsnisporeni.md/evenimente/sedinta-de-informare-a-cadrelor-manageriale-2/
LOCATION:Centrul metodic
END:VEVENT
BEGIN:VEVENT
DTSTART;VALUE=DATE:20190503
DTEND;VALUE=DATE:20190504
DTSTAMP:20260424T114925
CREATED:20190501T092839Z
LAST-MODIFIED:20190501T092839Z
UID:1461-1556841600-1556927999@dgitsnisporeni.md
SUMMARY:Etapa zonală a Concursului republican al tinerilor agenţi de circulaţie cu genericul: „Securitatea la trafic înseamnă viaţă”
DESCRIPTION:
URL:https://dgitsnisporeni.md/evenimente/etapa-zonala-a-concursului-republican-al-tinerilor-agenti-de-circulatie-cu-genericul-securitatea-la-trafic-inseamna-viata/
LOCATION:s.Lăpușna\, r.Hâncești
END:VEVENT
BEGIN:VEVENT
DTSTART;TZID=Europe/Helsinki:20190502T083000
DTEND;TZID=Europe/Helsinki:20190502T170000
DTSTAMP:20260424T114925
CREATED:20190501T085236Z
LAST-MODIFIED:20190501T085236Z
UID:1436-1556785800-1556816400@dgitsnisporeni.md
SUMMARY:Seminar instructiv cu cadre didactice
DESCRIPTION:Rezultatele pretestării la istorie. Aplicarea baremului de corectare
URL:https://dgitsnisporeni.md/evenimente/seminar-instructiv-cu-cadre-didactice-2/
LOCATION:Centrul metodic
END:VEVENT
BEGIN:VEVENT
DTSTART;VALUE=DATE:20190502
DTEND;VALUE=DATE:20190503
DTSTAMP:20260424T114925
CREATED:20190501T093605Z
LAST-MODIFIED:20190501T093605Z
UID:1473-1556755200-1556841599@dgitsnisporeni.md
SUMMARY:Secţia administrativ-auxiliară\, autoparc
DESCRIPTION:Şedinţă de lucru cu conducătorii auto\nTestarea tehnică : OPEL Movano CSD-517 şi CSD-524\nMonitorizarea şi coordonarea transportării elevilor în instituţiile de învăţământ. Asigurarea funcţionalităţii autobuzelor şcolare
URL:https://dgitsnisporeni.md/evenimente/sectia-administrativ-auxiliara-autoparc/
LOCATION:S.R.L Autopavitrans\, Nisporeni
END:VEVENT
BEGIN:VEVENT
DTSTART;TZID=Europe/Helsinki:20190425T083000
DTEND;TZID=Europe/Helsinki:20190425T170000
DTSTAMP:20260424T114925
CREATED:20190404T064227Z
LAST-MODIFIED:20190404T064227Z
UID:780-1556181000-1556211600@dgitsnisporeni.md
SUMMARY:Ședința de informare a cadrelor manageriale
DESCRIPTION:Analiza și generalizarea rezultatelor pretestărilor
URL:https://dgitsnisporeni.md/evenimente/sedinta-de-informare-a-cadrelor-manageriale/
LOCATION:Centrul metodic
END:VEVENT
BEGIN:VEVENT
DTSTART;TZID=Europe/Helsinki:20190424T083000
DTEND;TZID=Europe/Helsinki:20190424T170000
DTSTAMP:20260424T114925
CREATED:20190404T083427Z
LAST-MODIFIED:20190404T083427Z
UID:821-1556094600-1556125200@dgitsnisporeni.md
SUMMARY:Atelier de lucru cu bibliotecarii
DESCRIPTION:Corectitudinea completării documentației de evidență a fondului de carte
URL:https://dgitsnisporeni.md/evenimente/atelier-de-lucru-cu-bibliotecarii/
LOCATION:Centrul metodic
END:VEVENT
BEGIN:VEVENT
DTSTART;TZID=Europe/Helsinki:20190419T140000
DTEND;TZID=Europe/Helsinki:20190419T170000
DTSTAMP:20260424T114925
CREATED:20190403T130620Z
LAST-MODIFIED:20190403T130917Z
UID:755-1555682400-1555693200@dgitsnisporeni.md
SUMMARY:Ședința Consiliului de administrație
DESCRIPTION:1.Organizarea odihnei de vară a copiilor\, sezon estival 2019 \n2.Activitatea Consiliului Consultativ raional al elevilor \n3.Respectarea Nomenclatorului tipurilor de documentație școlară și rapoarte în instituțiile educaționale (nomenclator aprobat de MECC prin ordinul nr.897 din 12.06.2018)
URL:https://dgitsnisporeni.md/evenimente/sedinta-consiliului-de-administratie/
LOCATION:Centrul metodic
END:VEVENT
BEGIN:VEVENT
DTSTART;TZID=Europe/Helsinki:20190418T090000
DTEND;TZID=Europe/Helsinki:20190418T170000
DTSTAMP:20260424T114925
CREATED:20190404T064045Z
LAST-MODIFIED:20190404T064045Z
UID:778-1555578000-1555606800@dgitsnisporeni.md
SUMMARY:Ședința Comisiei de atestare a cadrelor didactice
DESCRIPTION:Aria curriculară – Limbă și comunicare\, Educația Socio-Umanistică
URL:https://dgitsnisporeni.md/evenimente/sedinta-comisiei-de-atestare-a-cadrelor-didactice-3/
LOCATION:Centrul metodic
END:VEVENT
BEGIN:VEVENT
DTSTART;TZID=Europe/Helsinki:20190417T083000
DTEND;TZID=Europe/Helsinki:20190417T170000
DTSTAMP:20260424T114925
CREATED:20190404T083629Z
LAST-MODIFIED:20190404T083629Z
UID:823-1555489800-1555520400@dgitsnisporeni.md
SUMMARY:Seminar teoretico - practic
DESCRIPTION:Metode eficiente în predarea disciplinelor biologie / chimie pentru un proces educațional de calitate.
URL:https://dgitsnisporeni.md/evenimente/seminar-teoretico-practic/
LOCATION:Centrul metodic
END:VEVENT
BEGIN:VEVENT
DTSTART;TZID=Europe/Helsinki:20190416T090000
DTEND;TZID=Europe/Helsinki:20190416T170000
DTSTAMP:20260424T114925
CREATED:20190404T063916Z
LAST-MODIFIED:20190404T063916Z
UID:776-1555405200-1555434000@dgitsnisporeni.md
SUMMARY:Ședința Comisiei de atestare a cadrelor didactice
DESCRIPTION:Aria Curriculară – Matematica și Științe\, Arte\, Tehnologii\, Sport
URL:https://dgitsnisporeni.md/evenimente/sedinta-comisiei-de-atestare-a-cadrelor-didactice-2/
LOCATION:Centrul metodic
END:VEVENT
BEGIN:VEVENT
DTSTART;VALUE=DATE:20190416
DTEND;VALUE=DATE:20190421
DTSTAMP:20260424T114925
CREATED:20190404T085436Z
LAST-MODIFIED:20190404T085436Z
UID:839-1555372800-1555804799@dgitsnisporeni.md
SUMMARY:Concursul tinerilor agenți de circulație (zonal și raional)
DESCRIPTION:Promovarea elevilor cu performanțe deosebite
URL:https://dgitsnisporeni.md/evenimente/concursul-tinerilor-agenti-de-circulatie-zonal-si-raional/
END:VEVENT
BEGIN:VEVENT
DTSTART;TZID=Europe/Helsinki:20190415T090000
DTEND;TZID=Europe/Helsinki:20190415T170000
DTSTAMP:20260424T114925
CREATED:20190404T063447Z
LAST-MODIFIED:20190404T063802Z
UID:771-1555318800-1555347600@dgitsnisporeni.md
SUMMARY:Ședința Comisiei de atestare a cadrelor didactice
DESCRIPTION:Învățământ primar și școlar
URL:https://dgitsnisporeni.md/evenimente/sedinta-comisiei-de-atestare-a-cadrelor-didactice/
LOCATION:Centrul metodic
END:VEVENT
BEGIN:VEVENT
DTSTART;VALUE=DATE:20190415
DTEND;VALUE=DATE:20190420
DTSTAMP:20260424T114925
CREATED:20190404T090237Z
LAST-MODIFIED:20190404T090237Z
UID:851-1555286400-1555718399@dgitsnisporeni.md
SUMMARY:Promovarea U-Report
DESCRIPTION:Consultarea tinerilor cu vârsta cuprinsă între 14-25 ani în soluționarea problemelor comunitare locale
URL:https://dgitsnisporeni.md/evenimente/promovarea-u-report/
LOCATION:Instituțiile de învățământ
END:VEVENT
BEGIN:VEVENT
DTSTART;TZID=Europe/Helsinki:20190414T090000
DTEND;TZID=Europe/Helsinki:20190414T170000
DTSTAMP:20260424T114925
CREATED:20190404T084222Z
LAST-MODIFIED:20190404T084222Z
UID:830-1555232400-1555261200@dgitsnisporeni.md
SUMMARY:Olimpiada raională la disciplina de studiu Ed.fizică - etapa raională
DESCRIPTION:Promovarea elevilor cu performanțe deosebite
URL:https://dgitsnisporeni.md/evenimente/olimpiada-raionala-la-disciplina-de-studiu-ed-fizica-etapa-raionala/
LOCATION:I.P L.T „Boris Cazacu”\, Nisporeni
END:VEVENT
BEGIN:VEVENT
DTSTART;TZID=Europe/Helsinki:20190413T100000
DTEND;TZID=Europe/Helsinki:20190413T170000
DTSTAMP:20260424T114925
CREATED:20190404T083850Z
LAST-MODIFIED:20190404T084043Z
UID:826-1555149600-1555174800@dgitsnisporeni.md
SUMMARY:Olimpiada raională la disciplina de studiu Științe - etapa raională
DESCRIPTION:Promovarea elevilor cu performanțe deosebite
URL:https://dgitsnisporeni.md/evenimente/olimpiada-raionala-la-disciplina-de-studiu-stiinte-etapa-raionala/
LOCATION:I.P L.T „Mircea Eliade”\, Chișinăului 2\, Nisporeni
END:VEVENT
BEGIN:VEVENT
DTSTART;TZID=Europe/Helsinki:20190413T083000
DTEND;TZID=Europe/Helsinki:20190413T170000
DTSTAMP:20260424T114925
CREATED:20190404T082142Z
LAST-MODIFIED:20190405T184240Z
UID:811-1555144200-1555174800@dgitsnisporeni.md
SUMMARY:Seminare teoretico-practice
DESCRIPTION:Dimensiunile managementului participativ – discuții la o cafea
URL:https://dgitsnisporeni.md/evenimente/seminare-teoretico-practice/
LOCATION:I.P L.T „Mircea Eliade”\, Chișinăului 2\, Nisporeni
END:VEVENT
BEGIN:VEVENT
DTSTART;TZID=Europe/Helsinki:20190413T083000
DTEND;TZID=Europe/Helsinki:20190413T170000
DTSTAMP:20260424T114925
CREATED:20190404T071146Z
LAST-MODIFIED:20190404T071146Z
UID:788-1555144200-1555174800@dgitsnisporeni.md
SUMMARY:Ședință de informare a reprezentanților comisiilor metodice din instituțiile de învățământ
DESCRIPTION:Repere metodologice privind asigurarea continuității la nivelul clasei a IV-a și a V-a din perspectiva ECD
URL:https://dgitsnisporeni.md/evenimente/sedinta-de-informare-a-reprezentantilor-comisiilor-metodice-din-institutiile-de-invatamant/
END:VEVENT
BEGIN:VEVENT
DTSTART;TZID=Europe/Helsinki:20190412T083000
DTEND;TZID=Europe/Helsinki:20190412T170000
DTSTAMP:20260424T114925
CREATED:20190404T083212Z
LAST-MODIFIED:20190404T083212Z
UID:816-1555057800-1555088400@dgitsnisporeni.md
SUMMARY:Seminare teoretico-practice
DESCRIPTION:Dezvoltarea competențelor de relaționare\, de comunicare și de cooperare în cadrul activităților extradidactice la disciplina matematica
URL:https://dgitsnisporeni.md/evenimente/seminare-teoretico-practice-3/
LOCATION:I.P Gimnaziul „Ștefan cel Mare”\, Nisporeni
END:VEVENT
BEGIN:VEVENT
DTSTART;TZID=Europe/Helsinki:20190411T080000
DTEND;TZID=Europe/Helsinki:20190411T170000
DTSTAMP:20260424T114925
CREATED:20190404T074332Z
LAST-MODIFIED:20190404T074332Z
UID:797-1554969600-1555002000@dgitsnisporeni.md
SUMMARY:Simulare de examen la Istoria românilor și universală – GIMNAZIU
DESCRIPTION:Pregătirea candidaților pentru examenele de absolvire
URL:https://dgitsnisporeni.md/evenimente/simulare-de-examen-la-istoria-romanilor-si-universala-gimnaziu/
LOCATION:Instituțiile de învățământ
END:VEVENT
BEGIN:VEVENT
DTSTART;VALUE=DATE:20190411
DTEND;VALUE=DATE:20190415
DTSTAMP:20260424T114925
CREATED:20190404T084916Z
LAST-MODIFIED:20190404T084916Z
UID:833-1554940800-1555286399@dgitsnisporeni.md
SUMMARY:Vizitarea Salonului Internațional de Carte pentru Copii și Tineret\, ediția a XXIII-a
DESCRIPTION:Promovarea lecturii. Educația non-formală a elevilor
URL:https://dgitsnisporeni.md/evenimente/vizitarea-salonului-international-de-carte-pentru-copii-si-tineret-editia-a-xxiii-a/
LOCATION:Instituțiile de învățământ
END:VEVENT
BEGIN:VEVENT
DTSTART;TZID=Europe/Helsinki:20190410T083000
DTEND;TZID=Europe/Helsinki:20190410T170000
DTSTAMP:20260424T114925
CREATED:20190404T082844Z
LAST-MODIFIED:20190404T082844Z
UID:813-1554885000-1554915600@dgitsnisporeni.md
SUMMARY:Seminare teoretico-practice
DESCRIPTION:Aria curriculară Educația pentru mediul natural și cultura ecologică: Animalele domestice (cadrele didactice\, grupa mare)
URL:https://dgitsnisporeni.md/evenimente/seminare-teoretico-practice-2/
LOCATION:Centrul metodic
END:VEVENT
BEGIN:VEVENT
DTSTART;TZID=Europe/Helsinki:20190410T080000
DTEND;TZID=Europe/Helsinki:20190410T170000
DTSTAMP:20260424T114925
CREATED:20190404T075504Z
LAST-MODIFIED:20190404T075504Z
UID:807-1554883200-1554915600@dgitsnisporeni.md
SUMMARY:Simulare de examen la Disciplina la solicitare – LICEU
DESCRIPTION:Pregătirea candidaților pentru examenele de absolvire
URL:https://dgitsnisporeni.md/evenimente/simulare-de-examen-la-disciplina-la-solicitare-liceu/
LOCATION:Instituțiile de învățământ
END:VEVENT
BEGIN:VEVENT
DTSTART;VALUE=DATE:20190410
DTEND;VALUE=DATE:20190411
DTSTAMP:20260424T114925
CREATED:20190404T090542Z
LAST-MODIFIED:20190404T090542Z
UID:856-1554854400-1554940799@dgitsnisporeni.md
SUMMARY:Prezentarea informației la solicitarea Ministerului Economiei și Infrastructurii
DESCRIPTION:Informații prezentate în termen
URL:https://dgitsnisporeni.md/evenimente/prezentarea-informatiei-la-solicitarea-ministerului-economiei-si-infrastructurii/
END:VEVENT
BEGIN:VEVENT
DTSTART;TZID=Europe/Helsinki:20190409T083000
DTEND;TZID=Europe/Helsinki:20190409T170000
DTSTAMP:20260424T114925
CREATED:20190404T065405Z
LAST-MODIFIED:20190404T065405Z
UID:785-1554798600-1554829200@dgitsnisporeni.md
SUMMARY:Ședință de informare a conducătorilor IET
DESCRIPTION:Cu privire la implementarea Instrucțiunii privind organizarea alimentației copiilor și elevilor în instituțiile de învățământ general (HG nr.722 din 18.07.2018)\nInstrucțiunea privind ocrotirea vieții și sănătății copiilor în IET\nCu privire la procesul de implementare a Ordinului nr.253 din 11.10.2017 privind aprobarea standardelor minime de dotare a IET
URL:https://dgitsnisporeni.md/evenimente/sedinta-de-informare-a-conducatorilor-iet/
LOCATION:Centrul metodic
END:VEVENT
BEGIN:VEVENT
DTSTART;TZID=Europe/Helsinki:20190409T080000
DTEND;TZID=Europe/Helsinki:20190409T170000
DTSTAMP:20260424T114925
CREATED:20190404T071839Z
LAST-MODIFIED:20190404T071839Z
UID:795-1554796800-1554829200@dgitsnisporeni.md
SUMMARY:Simulare de examen la Limba și Literatură Română – GIMNAZIU
DESCRIPTION:Pregătirea candidaților pentru examenele de absolvire
URL:https://dgitsnisporeni.md/evenimente/simulare-de-examen-la-limba-si-literatura-romana-gimnaziu/
LOCATION:Instituțiile de învățământ
END:VEVENT
BEGIN:VEVENT
DTSTART;TZID=Europe/Helsinki:20190408T080000
DTEND;TZID=Europe/Helsinki:20190408T170000
DTSTAMP:20260424T114925
CREATED:20190404T075025Z
LAST-MODIFIED:20190404T075025Z
UID:801-1554710400-1554742800@dgitsnisporeni.md
SUMMARY:Simulare de examen la Matematică – LICEU
DESCRIPTION:Pregătirea candidaților pentru examenele de absolvire
URL:https://dgitsnisporeni.md/evenimente/simulare-de-examen-la-matematica-liceu/
LOCATION:Instituțiile de învățământ
END:VEVENT
BEGIN:VEVENT
DTSTART;TZID=Europe/Helsinki:20190408T080000
DTEND;TZID=Europe/Helsinki:20190408T170000
DTSTAMP:20260424T114925
CREATED:20190404T074808Z
LAST-MODIFIED:20190404T074808Z
UID:799-1554710400-1554742800@dgitsnisporeni.md
SUMMARY:Simulare de examen la Istoria românilor și universală – LICEU
DESCRIPTION:Pregătirea candidaților pentru examenele de absolvire
URL:https://dgitsnisporeni.md/evenimente/simulare-de-examen-la-istoria-romanilor-si-universala-liceu/
LOCATION:Instituțiile de învățământ
END:VEVENT
BEGIN:VEVENT
DTSTART;VALUE=DATE:20190408
DTEND;VALUE=DATE:20190409
DTSTAMP:20260424T114925
CREATED:20190404T090054Z
LAST-MODIFIED:20190404T090054Z
UID:847-1554681600-1554767999@dgitsnisporeni.md
SUMMARY:Testarea tehnică a autobuzelor școlare Renault Master
DESCRIPTION:Asigurarea transportării elevilor în siguranță
URL:https://dgitsnisporeni.md/evenimente/testarea-tehnica-a-autobuzelor-scolare-renault-master/
LOCATION:S.R.L Autopavitrans\, Nisporeni
END:VEVENT
BEGIN:VEVENT
DTSTART;VALUE=DATE:20190408
DTEND;VALUE=DATE:20190410
DTSTAMP:20260424T114925
CREATED:20190404T085647Z
LAST-MODIFIED:20190404T085647Z
UID:841-1554681600-1554854399@dgitsnisporeni.md
SUMMARY:Cursuri de instruire la protecția civilă
DESCRIPTION:Formare continuă a cadrelor didactice din IET
URL:https://dgitsnisporeni.md/evenimente/cursuri-de-instruire-la-protectia-civila/
LOCATION:Centrul Republican de Instruire\, Chișinău
END:VEVENT
END:VCALENDAR