BEGIN:VCALENDAR
VERSION:2.0
PRODID:-//DGITS Nisporeni - ECPv6.15.20//NONSGML v1.0//EN
CALSCALE:GREGORIAN
METHOD:PUBLISH
X-ORIGINAL-URL:https://dgitsnisporeni.md
X-WR-CALDESC:Evenimente pentru DGITS Nisporeni
REFRESH-INTERVAL;VALUE=DURATION:PT1H
X-Robots-Tag:noindex
X-PUBLISHED-TTL:PT1H
BEGIN:VTIMEZONE
TZID:Europe/Helsinki
BEGIN:DAYLIGHT
TZOFFSETFROM:+0200
TZOFFSETTO:+0300
TZNAME:EEST
DTSTART:20180325T010000
END:DAYLIGHT
BEGIN:STANDARD
TZOFFSETFROM:+0300
TZOFFSETTO:+0200
TZNAME:EET
DTSTART:20181028T010000
END:STANDARD
BEGIN:DAYLIGHT
TZOFFSETFROM:+0200
TZOFFSETTO:+0300
TZNAME:EEST
DTSTART:20190331T010000
END:DAYLIGHT
BEGIN:STANDARD
TZOFFSETFROM:+0300
TZOFFSETTO:+0200
TZNAME:EET
DTSTART:20191027T010000
END:STANDARD
BEGIN:DAYLIGHT
TZOFFSETFROM:+0200
TZOFFSETTO:+0300
TZNAME:EEST
DTSTART:20200329T010000
END:DAYLIGHT
BEGIN:STANDARD
TZOFFSETFROM:+0300
TZOFFSETTO:+0200
TZNAME:EET
DTSTART:20201025T010000
END:STANDARD
END:VTIMEZONE
BEGIN:VEVENT
DTSTART;TZID=Europe/Helsinki:20190406T090000
DTEND;TZID=Europe/Helsinki:20190406T170000
DTSTAMP:20260423T041519
CREATED:20190404T085327Z
LAST-MODIFIED:20190404T085327Z
UID:837-1554541200-1554570000@dgitsnisporeni.md
SUMMARY:Turnamentul în domeniul drepturilor copiilor
DESCRIPTION:Promovarea elevilor cu performanțe deosebite
URL:https://dgitsnisporeni.md/evenimente/turnamentul-in-domeniul-drepturilor-copiilor/
LOCATION:I.P Gimnaziul „Ștefan cel Mare”\, Nisporeni
END:VEVENT
BEGIN:VEVENT
DTSTART;TZID=Europe/Helsinki:20190405T083000
DTEND;TZID=Europe/Helsinki:20190405T170000
DTSTAMP:20260423T041519
CREATED:20190404T064506Z
LAST-MODIFIED:20190404T064506Z
UID:782-1554453000-1554483600@dgitsnisporeni.md
SUMMARY:Ședință de informare și instruire a directorilor adjuncți
DESCRIPTION:Aplicarea Nomenclatorul tipurilor de documentație școlară și rapoarte în învățământul gimnazial\nRepere metodologice privind asigurarea continuității la nivelul clasei a IV-a și a V-a din perspectiva ECD
URL:https://dgitsnisporeni.md/evenimente/sedinta-de-informare-si-instruire-a-directorilor-adjuncti/
LOCATION:Centrul metodic
END:VEVENT
BEGIN:VEVENT
DTSTART;TZID=Europe/Helsinki:20190405T080000
DTEND;TZID=Europe/Helsinki:20190405T170000
DTSTAMP:20260423T041519
CREATED:20190404T075128Z
LAST-MODIFIED:20190404T075128Z
UID:803-1554451200-1554483600@dgitsnisporeni.md
SUMMARY:Simulare de examen la Limba străină – LICEU
DESCRIPTION:Pregătirea candidaților pentru examenele de absolvire
URL:https://dgitsnisporeni.md/evenimente/simulare-de-examen-la-limba-straina-liceu/
LOCATION:Instituțiile de învățământ
END:VEVENT
BEGIN:VEVENT
DTSTART;VALUE=DATE:20190405
DTEND;VALUE=DATE:20190406
DTSTAMP:20260423T041519
CREATED:20190404T090634Z
LAST-MODIFIED:20190404T090634Z
UID:858-1554422400-1554508799@dgitsnisporeni.md
SUMMARY:Prezentarea informației cu privire la alimentarea elevilor
DESCRIPTION:Informații prezentate în termen
URL:https://dgitsnisporeni.md/evenimente/prezentarea-informatiei-cu-privire-la-alimentarea-elevilor/
END:VEVENT
BEGIN:VEVENT
DTSTART;TZID=Europe/Helsinki:20190404T080000
DTEND;TZID=Europe/Helsinki:20190404T170000
DTSTAMP:20260423T041519
CREATED:20190404T071610Z
LAST-MODIFIED:20190404T071610Z
UID:790-1554364800-1554397200@dgitsnisporeni.md
SUMMARY:Simulare de examen la matematică - GIMNAZIU
DESCRIPTION:Pregătirea candidaților pentru examenele de absolvire
URL:https://dgitsnisporeni.md/evenimente/simulare-de-examen-la-matematica-gimnaziu/
LOCATION:Instituțiile de învățământ
END:VEVENT
BEGIN:VEVENT
DTSTART;TZID=Europe/Helsinki:20190403T080000
DTEND;TZID=Europe/Helsinki:20190403T170000
DTSTAMP:20260423T041519
CREATED:20190404T075254Z
LAST-MODIFIED:20190404T075254Z
UID:805-1554278400-1554310800@dgitsnisporeni.md
SUMMARY:Simulare de examen la Limba și literatura română – LICEU
DESCRIPTION:Pregătirea candidaților pentru examenele de absolvire
URL:https://dgitsnisporeni.md/evenimente/simulare-de-examen-la-limba-si-literatura-romana-liceu/
LOCATION:Instituțiile de învățământ
END:VEVENT
BEGIN:VEVENT
DTSTART;TZID=Europe/Helsinki:20190401T090000
DTEND;TZID=Europe/Helsinki:20190401T170000
DTSTAMP:20260423T041519
CREATED:20190404T085913Z
LAST-MODIFIED:20190404T085913Z
UID:844-1554109200-1554138000@dgitsnisporeni.md
SUMMARY:Ședință de lucru a conducătorilor auto
DESCRIPTION:Asigurarea transportării elevilor în siguranță
URL:https://dgitsnisporeni.md/evenimente/sedinta-de-lucru-a-conducatorilor-auto/
LOCATION:Centrul metodic
END:VEVENT
BEGIN:VEVENT
DTSTART;VALUE=DATE:20190401
DTEND;VALUE=DATE:20190402
DTSTAMP:20260423T041519
CREATED:20190404T090426Z
LAST-MODIFIED:20190404T090426Z
UID:853-1554076800-1554163199@dgitsnisporeni.md
SUMMARY:Prezentarea informației privind plata indemnizațiilor tinerilor specialiști
DESCRIPTION:Informații prezentate în termen
URL:https://dgitsnisporeni.md/evenimente/prezentarea-informatiei-privind-plata-indemnizatiilor-tinerilor-specialisti/
END:VEVENT
END:VCALENDAR